BEGIN:VCALENDAR
VERSION:2.0
CALSCALE:GREGORIAN
BEGIN:VEVENT
DTSTAMP:20260402T000000Z
DTSTART:20260513T150000Z
DTEND:20260513T154500Z
SUMMARY:Recon Re-architecture: What's New and What It Means for You
UID:recon-webinar-20260513@ivp.com
DESCRIPTION:What we’ll cover:\n\n- Re-architecture Overview: How our new platform enables greater scale\, speed\, and accuracy.\n\n- AI-Driven Matching: Resolving complex relationships and partial matches that traditional rules miss.\n\n- NLP Rule Automation: Reducing repetitive tasks with AI-recommended actions while maintaining human control.\n\n- Agent Notice Integration: Eliminating context-switching by linking counterparty notices directly to break records.\n\n- Workflow Enhancements: Streamlining queue management with Async Processing\, Snooze\, and advanced Recon Actions.\n\n- Feature Walkthrough: A short demonstration of the solution’s new capabilities using real-world scenarios.\n\n- Adoption and Q&A: Implementation priorities and a live session to answer your questions.
LOCATION:https://ivpus.zoom.us/s/98162086823
BEGIN:VALARM
TRIGGER:-PT10M
ACTION:DISPLAY
DESCRIPTION:Reminder
END:VALARM
END:VEVENT
END:VCALENDAR